Workbook

Sheet 표지
C3: [ 작성 및 제출요령 ]
C4: 1) 표지를 포함한 모든 Sheet를 서면과 전자파일로 제출할 것
C5: 2) 반드시 노란색 음영처리된 곳만 작성할 것
C6: 3) 서면으로 제출시 인쇄영역으로 설정된 <제출시 인쇄영역>으로 설정된 부분에 한하여 출력하여 제출
C7: 4) 본 시트의 '회사명'을 제일 먼저 채우고 타 시트를 작성할 것
B10: < 제출 시 인쇄 영역 >
C14: 2026년 국민성장펀드(국민참여형) 컨소시엄 참여 신청서
D19: - 제출서류 -
C22: 회사명 | F22: :
C23: 대표이사명 | F23: :
C24: 작성자 및 직위 | F24: :
C25: 연락처 | F25: :
C35: 2026. 3. 00.

Sheet 총괄
C3: [ 작성 및 제출요령 ]
C4: 1) 표지를 포함한 모든 Sheet를 서면과 전자파일로 제출할 것
C5: 2) 반드시 노란색 음영처리된 곳만 작성할 것
C6: 3) 서면으로 제출시 인쇄영역으로 설정된 <제출시 인쇄영역>으로 설정된 부분에 한하여 출력하여 제출
B9: < 제출 시 인쇄 영역 >
C11: 종합(총괄)
C13: 회사명 | D13: : | E13: =표지!G22 -> 0
C14: 작성자 및 직위 | D14: : | E14: =표지!G24 -> 0
C15: 연락처 | D15: : | E15: =표지!G25 -> 0
C17: [ 작성 및 제출요령 ]
C18: 1. 노란색 음영표시된 부분만 기재할것
C19: 2. 명시된 경우가 아니면 셀에 대한 변경(삽입, 삭제, 위치변경 등)을 하지 말 것
C20: 3. 본 자료의 작성기준일은 2025.12.31자이며, 별도로 기준일 또는 기간을 정한 경우에는 이에 따름
C21: 4. 아래 작성 대상 항목은 금감원에 제출하는 업무보고서 및 영업보고서상의 수치와 일치하여야 함
C22: 5. 서면 제출시 <금감원에 제출하는 업무보고서 및 영업보고서의 수치와 차이 없음>을 확인하는 문구를 넣을 것
C23: 6. 별도계산으로 되어 있는 항목에 대해서는 공정성 등을 위해 구체적인 평가 및 집계방법에 대해 공개하지 아니함
C26: 구분 | E26: 평가항목 | G26: 값
C27: 운용자산 | E27: 최근 3개 년도 평균 수탁총액(억원) | G27: ='1-1.운용자산'!G19:I19 -> #DIV/0!
E28: 최근 3개 년도 평균 수탁총액 성장률(%) | G28: ='1-1.운용자산'!G20:I20 -> #DIV/0!
E29: 사모투자재간접펀드 개수(개) | G29: ='1-2.사모투자재간접펀드 현황'!H28 -> 0
E30: 사모투자재간접펀드 설정규모(원) | G30: ='1-2.사모투자재간접펀드 현황'!H29 -> 0
C31: 운용인력 | E31: 운용전담인력 수(명) | G31: ='2-1.운용전담인력'!H21 -> 0
E32: 운용전담인력 업계 평균경력(년) | G32: ='2-1.운용전담인력'!K21 -> 0
E38: 회사명 :
E40: 대표이사 :

Sheet 1-1.운용자산
C3: [ 작성 및 제출요령 ]
C4: 1) 표지를 포함한 모든 Sheet를 서면과 전자파일로 제출할 것
C5: 2) 반드시 노란색 음영처리된 곳만 작성할 것
C6: 3) 서면으로 제출시 인쇄영역으로 설정된 <제출시 인쇄영역>으로 설정된 부분에 한하여 출력하여 제출
B9: < 제출 시 인쇄 영역 >
C11: 1-1. 운용자산
C14: 회사명 : | F14: =표지!G22 -> 0
C16: [운용자산]
C18: 항목 | G18: 값
C19: 최근 3개 년도 평균 수탁총액 | G19: =AVERAGE(G24:G26) -> #DIV/0!
C20: 최근 3개 년도 평균 수탁총액 성장률 | G20: =AVERAGE(I24:I26) -> #DIV/0!
C23: 구분 | G23: 금액(억원) | H23: 기준일 | I23: 증가율
C24: 2025년말 | H24: 46022
C25: 2024년말 | H25: 45657
C26: 2023년말 | H26: 45291
C27: 2022년말 | H27: 44926
C29: [ 작성요령 ]
C30: * 노란색 음영표시된 부분만 기재할것
C31: * 셀에 대한 변경(삽입, 삭제, 위치변경 등)을 하지 말 것
C32: * 작성된 자료내용은 검증할 수 있는 공시자료와 일치하여야 함
C33: (금융투자협회 종합통계서비스 집계 기준)
C34: * 펀드>회사별설정규모>기준일자 선택후 펀드+투자일임 / 순자산 총액+평가액 / 지역 전체 / 기금 전체
C35: * 매년말 기준으로 작성

Sheet 1-2.사모투자재간접펀드 현황
C3: [ 작성 및 제출요령 ]
C4: 1) 표지를 포함한 모든 Sheet를 서면과 전자파일로 제출할 것
C5: 2) 반드시 노란색 음영처리된 곳만 작성할 것
C6: 3) 서면으로 제출시 인쇄영역으로 설정된 <제출시 인쇄영역>으로 설정된 부분에 한하여 출력하여 제출
C7: 4) 출력시 페이지 너비와 길이에 따라 설정을 변경하여 내용의 식별이 가능하도록 할 것
C8: 5) 운용인력 시트와 업계경력 시트의 순번과 순서를 동일하게 할 것
B11: < 제출 시 인쇄 영역 >
X12: 청산료
D13: 1-2. 사모투자재간접펀드 현황 | X13: 청산중
X14: 운용중
D16: 회사명 : | F16: =표지!G22 -> 0
D18: [작성요령]
D19: 1. 작성기준일은 2025.12.31자를 원칙으로함
D20: 2. 노란색 음영표시된 부분만 기재할 것
D21: 3. 회색 음영표시셀에 대한 변경(삽입, 삭제, 위치변경 등)을 하지 말 것
D22: 4. 제안사에서 청산(상환)하였거나 운용중인 ['21.1.1 이후 설정된 사모펀드에 투자하는 모든 재간접 공모펀드]에 대해 기재할 것
D23: 5. 피투자펀드의 주요 투자 대상(상장, 비상장, 메자닌, 공모주 등의 투자형태) 및 분야에 대해 기술
D24: 6. 기준가 산정일은 2025.12.31을 원칙으로하며, 청산(상환) 펀드의 경우 청산(상환) 시점 기준가 기입
D26: [운용 성과]
D28: 사모투자 재간접펀드 | F28: 개수 | H28: =COUNTA(D33:F44) -> 0
F29: 총 설정규모 | H29: =SUM(H33:H44) -> 0
O30: [단위 : 원]
D31: 펀드명 | G31: 펀드상태 | H31: 설정규모 | I31: 운용사 출자금액 | J31: 설정일 | K31: 청산(상환)일 | L31: 기간 | M31: 순자산 | N31: 기준가 | O31: 피투자펀드의 주요 투자 대상
C32: (예시) | D32: oooo투자신탁 | G32: 운용중 | H32: 6000000000 | I32: 200000000 | J32: 44197 | K32: 46022 | L32: =IF(ISBLANK(J32),"",DATEDIF(J32,K32,"d")/365) -> 5 | M32: 5000000000 | N32: 1010.05 | O32: 비상장 메자닌 등의 형태로 첨단전략산업 에 해당되는 기업
C33: 1 | L33: =IF(ISBLANK(J33),"",DATEDIF(J33,K33,"d")/365)
C34: 2 | L34: =IF(ISBLANK(J34),"",DATEDIF(J34,K34,"d")/365)
C35: 3 | L35: =IF(ISBLANK(J35),"",DATEDIF(J35,K35,"d")/365)
C36: 4 | L36: =IF(ISBLANK(J36),"",DATEDIF(J36,K36,"d")/365)
C37: 5 | L37: =IF(ISBLANK(J37),"",DATEDIF(J37,K37,"d")/365)
C38: 6 | L38: =IF(ISBLANK(J38),"",DATEDIF(J38,K38,"d")/365)
C39: 7 | L39: =IF(ISBLANK(J39),"",DATEDIF(J39,K39,"d")/365)
C40: 8 | L40: =IF(ISBLANK(J40),"",DATEDIF(J40,K40,"d")/365)
C41: 9 | L41: =IF(ISBLANK(J41),"",DATEDIF(J41,K41,"d")/365)
C42: 10 | L42: =IF(ISBLANK(J42),"",DATEDIF(J42,K42,"d")/365)
C43: 11 | L43: =IF(ISBLANK(J43),"",DATEDIF(J43,K43,"d")/365)
C44: 12 | L44: =IF(ISBLANK(J44),"",DATEDIF(J44,K44,"d")/365)

Sheet 2-1.운용전담인력
C3: [ 작성 및 제출요령 ]
C4: 1) 표지를 포함한 모든 Sheet를 서면과 전자파일로 제출할 것
C5: 2) 반드시 노란색 음영처리된 곳만 작성할 것
C6: 3) 서면으로 제출시 인쇄영역으로 설정된 <제출시 인쇄영역>으로 설정된 부분에 한하여 출력하여 제출
C7: 4) 출력시 페이지 너비와 길이에 따라 설정을 변경하여 내용의 식별이 가능하도록 할 것
C8: 5) 운용전담인력 시트와 운용전담인력 업계경력 시트의 순번과 순서를 동일하게 할 것
B11: < 제출 시 인쇄 영역 >
C13: 2-1. 운용전담인력
C16: 회사명 : | H16: =표지!G22 -> 0
C18: [운용전담인력]
C20: 항목 | H20: 운용관련 인원 수 | K20: 전체운용인력 업계 평균경력
H21: =COUNT(C41:C60) -> 0 | K21: =AVERAGE(L41:L60) -> 0
C25: [작성요령]
C26: 1. 작성기준일은 2025.12.31자를 원칙으로함
C27: 2. 노란색 음영표시된 부분만 기재할 것
C28: 3. 회색 음영표시셀에 대한 변경(삽입, 삭제, 위치변경 등)을 하지 말 것
C29: 4. 입사일, 부서, 직급, 담당업무는 현 회사 기준으로 작성
C30: 5. 해당 부서가 표시된 조직도(인원 포함) 첨부
C31: 6. 전체 운용인력 업계 평균경력 = (현 직장 경력을 포함한 총 운용경력의 합) / (전체 운용인력 수)
C32: 7. 전체 운용인력 평균 현재회사 근무연수 = (현 직장 운용경력의 합) / (전체 운용인력 수)
C33: 8. 운용전담인력은 투자자산운용사(구 일반운용전문인력) 자격증(금융투자협회 발행) 소지자에 한함
C34: - 제외 인력 : 타기관 전담운용인력, 랩 관련 오퍼레이션 또는 지원 부서 인력, 조사분석인력, 위험관리인력, 해외지사 근무인력
C35: 9. 총경력은 타 금융기관에서의 운용 관련 경력을 합계한 수치임
C37: [인력현황]
C39: 번호 | D39: 성명 | E39: 생년월일 | F39: 이메일 | G39: 전화번호 | H39: 입사일 | I39: 부서 | J39: 직급 | K39: 담당업무 | L39: 자산운용업계 총 근무년수 | M39: 비고 (처벌여부 등)
L41: =SUMIF('2-2.운용전담인력 업계경력'!D32:D130,D41,'2-2.운용전담인력 업계경력'!I32:I130) -> 0

Sheet 2-2.운용전담인력 업계경력
C3: [ 작성 및 제출요령 ]
C4: 1) 표지를 포함한 모든 Sheet를 서면과 전자파일로 제출할 것
C5: 2) 반드시 노란색 음영처리된 곳만 작성할 것
C6: 3) 서면으로 제출시 인쇄영역으로 설정된 <제출시 인쇄영역>으로 설정된 부분에 한하여 출력하여 제출
C7: 4) 출력시 페이지 너비와 길이에 따라 설정을 변경하여 내용의 식별이 가능하도록 할 것
C8: 5) 운용전담인력 시트와 운용전담인력 업계경력 시트의 순번과 순서를 동일하게 할 것
B11: < 제출 시 인쇄 영역 >
C13: 2-2. 운용전담인력 업계경력
C16: 회사명 : | E16: =표지!G22 -> 0
C18: [작성요령]
C19: 1. 작성기준일은 2025.12.31자를 원칙으로함
C20: 2. 노란색 음영표시된 부분만 기재할 것
C21: 3. 회색 음영표시셀에 대한 변경(삽입, 삭제, 위치변경 등)을 하지 말 것
C22: 4. 운용전담인력은 투자자산운용사(구 일반운용전문인력) 자격증(금융투자협회 발행) 소지자에 한함
C23: - 제외 인력 : 타기관 전담운용인력, 랩 관련 오퍼레이션 또는 지원 부서 인력, 조사분석인력, 위험관리인력, 해외지사 근무인력
C24: 5. 금융투자회사(은행 등 겸영업자 포함)에서의 운용·전략·자산배분 관련 업무 경력에 한함
C25: 6. 총경력은 타 금융기관에서의 운용 관련 경력을 합계한 수치임
C26: 7. 2-1의 근무기간(경력), 운용인력과 2-2의 근무기간 및 운용인력은 일치하여야 함
C28: [업계경력]
C30: 번호 | D30: 성명 | E30: 생년월일 | F30: 부서명 | G30: 근무기간(월) | J30: 회사명 | K30: 담당 업무
G31: FROM | H31: TO | I31: 기간
I32: =DATEDIF(G32,H32,"d")/365 -> 0
I33: =DATEDIF(G33,H33,"d")/365 -> 0
I34: =DATEDIF(G34,H34,"d")/365 -> 0
I35: =DATEDIF(G35,H35,"d")/365 -> 0
I36: =DATEDIF(G36,H36,"d")/365 -> 0
I37: =DATEDIF(G37,H37,"d")/365 -> 0
I38: =DATEDIF(G38,H38,"d")/365 -> 0
I39: =DATEDIF(G39,H39,"d")/365 -> 0
I40: =DATEDIF(G40,H40,"d")/365 -> 0
I41: =DATEDIF(G41,H41,"d")/365 -> 0
I42: =DATEDIF(G42,H42,"d")/365 -> 0
I43: =DATEDIF(G43,H43,"d")/365 -> 0
... I55: =DATEDIF(G55,H55,"d")/365 -> 0

Sheet 3. 예상 판매채널 및 물량 배정 계획
C3: [ 작성 및 제출요령 ]
C4: 1) 표지를 포함한 모든 Sheet를 서면과 전자파일로 제출할 것
C5: 2) 반드시 노란색 음영처리된 곳만 작성할 것
C6: 3) 서면으로 제출시 인쇄영역으로 설정된 <제출시 인쇄영역>으로 설정된 부분에 한하여 출력하여 제출
B10: < 제출 시 인쇄 영역 >
C13: 3. 예상 판매 채널 및 물량 배정
C19: 회사명 : | D19: =표지!G22 -> 0
O22: [단위 : 억원]
C23: 번호 | E23: 판매사명 | H23: 판매물량 배정 금액 | L23: 온라인 판매 포함 여부
C24: 예시) | E24: ㅇㅇ은행 | H24: 100 | L24: O
C25: 1
C26: 2
C27: 3
C28: 4
C29: 5
C30: 6
C31: 7
C32: 8
C33: 9
C34: 10
C35: 11
C36: 12
... C44: 20
C48: [작성요령]
C49: 1. 컨소시엄 참여 신청서[2026년 국민성장펀드(국참형) 컨소시엄 제출서류 서식(한글양식) - 첨부1] 상 기재된 공모펀드 설정 희망금액 기준으로 작성할 것
